Workbook
Name CDC_EQUIP: #REF!
Name CDC_EQUIP: #REF!
Name dsdsds: #REF!
Name dsdsds: #REF!
Name PC_CTBXGER: #REF!
Name PC_CTBXGER: #REF!
Name PC_PESS: #REF!
Name PC_PESS: #REF!

Sheet QUADRIMESTRAL
B2: INSTITUTO POIESIS
B3: CG 03/2020 - RELATÓRIO GERENCIAL - 2º QUADRIMESTRE 2026 - Fábricas
F5: Maio_2026 | G5: Junho_2026 | H5: Julho_2026 | I5: Agosto_2026 | J5: Total 2º Q. 2026
B7: A- | C7: DEMONSTRATIVO DAS RECEITAS REALIZADAS | F7: =SUM(F8:F11) -> 6770777.4 | G7: =SUM(G8:G11) -> 6790038.8 | H7: =SUM(H8:H11) -> 6795253.4 | I7: =SUM(I8:I11) -> 6942200.4 | J7: =SUM(J8:J11) -> 27298270
C8: Repasse Público Recebido | F8: =+'SMAC SCEIC 2Q 2026'!I12 -> 6666666.7 | G8: =+'SMAC SCEIC 2Q 2026'!J12 -> 6666666.7 | H8: =+'SMAC SCEIC 2Q 2026'!K12 -> 6666666.7 | I8: =+'SMAC SCEIC 2Q 2026'!L12 -> 6666666.7 | J8: =SUM(F8:I8) -> 26666667
C9: Receitas Próprias | F9: 0 | G9: 0 | H9: 0 | I9: 0 | J9: =SUM(F9:I9) -> 0
C10: Outras receitas | F10: =+'SMAC SCEIC 2Q 2026'!I43 -> 0 | G10: =+'SMAC SCEIC 2Q 2026'!J43 -> 0 | H10: =+'SMAC SCEIC 2Q 2026'!K43 -> 0 | I10: =+'SMAC SCEIC 2Q 2026'!L43 -> 150601.89 | J10: =SUM(F10:I10) -> 150601.89
C11: Receitas com Aplicações Financeiras | F11: =+'SMAC SCEIC 2Q 2026'!I44 -> 104110.77 | G11: =+'SMAC SCEIC 2Q 2026'!J44 -> 123372.08 | H11: =+'SMAC SCEIC 2Q 2026'!K44 -> 128586.77 | I11: =+'SMAC SCEIC 2Q 2026'!L44 -> 124931.88 | J11: =SUM(F11:I11) -> 481001.5
B12: B | C12: DEMONSTRATIVO DAS DESPESAS REALIZADAS | F12: =+F13+F22+F24+F26+F28+F35+F37+F39 -> 6033015.7 | G12: =+G13+G22+G24+G26+G28+G35+G37+G39 -> 6551211.8 | H12: =+H13+H22+H24+H26+H28+H35+H37+H39 -> 6058988 | I12: =+I13+I22+I24+I26+I28+I35+I37+I39 -> 6548401.9 | J12: =+J13+J22+J24+J26+J28+J35+J37+J39 -> 25191617
B13: 1. | C13: Recursos Humanos | F13: =+SUM(F14:F21) -> 4257377.2 | G13: =+SUM(G14:G21) -> 4517444.1 | H13: =+SUM(H14:H21) -> 3786140.2 | I13: =+SUM(I14:I21) -> 4191997.4 | J13: =+SUM(J14:J21) -> 16752959
C14: 1.1 | D14: CLT + Encargos | F14: =+'SMAC SCEIC 2Q 2026'!I55 -> 4151984.3 | G14: =+'SMAC SCEIC 2Q 2026'!J55 -> 4407598.2 | H14: =+'SMAC SCEIC 2Q 2026'!K55 -> 3683429.9 | I14: =+'SMAC SCEIC 2Q 2026'!L55 -> 4035058.9 | J14: =SUM(F14:I14) -> 16278071
E15: 400030 | J15: =SUM(F15:I15) -> 0
E16: 400056 | J16: =SUM(F16:I16) -> 0
E17: 400103 | J17: =SUM(F17:I17) -> 0
E18: 400102 | J18: =SUM(F18:I18) -> 0
E19: 400091 | J19: =SUM(F19:I19) -> 0
C20: 1.2 | D20: Diretoria | F20: =+'SMAC SCEIC 2Q 2026'!I52 -> 81299.4 | G20: =+'SMAC SCEIC 2Q 2026'!J52 -> 88768.5 | H20: =+'SMAC SCEIC 2Q 2026'!K52 -> 80988.67 | I20: =+'SMAC SCEIC 2Q 2026'!L52 -> 136272.02 | J20: =SUM(F20:I20) -> 387328.59
C21: 1.3 | D21: Estágios / Aprendizes | F21: =+'SMAC SCEIC 2Q 2026'!I61 -> 24093.55 | G21: =+'SMAC SCEIC 2Q 2026'!J61 -> 21077.32 | H21: =+'SMAC SCEIC 2Q 2026'!K61 -> 21721.65 | I21: =+'SMAC SCEIC 2Q 2026'!L61 -> 20666.5 | J21: =SUM(F21:I21) -> 87559.02
B22: 2. | C22: Prestadores de serviços (Consultorias/Assessorias/Pessoas Jurídicas) - Área Meio (Limpeza, vigilância, assessorias, informática, outros serviços prestados) | F22: =+'SMAC SCEIC 2Q 2026'!I64 -> 702885.66 | G22: =+'SMAC SCEIC 2Q 2026'!J64 -> 681330.82 | H22: =+'SMAC SCEIC 2Q 2026'!K64 -> 610004.18 | I22: =+'SMAC SCEIC 2Q 2026'!L64 -> 981347.18 | J22: =SUM(F22:I22) -> 2975567.8
J23: =SUM(F23:I23) -> 0
B24: 3. | C24: Custos gerais administrativos e Institucionais ( Locações de imóveis, Utilidades públicas, materiais de consumo, transportes, outras) | F24: =+'SMAC SCEIC 2Q 2026'!I73-F35 -> 260610.93 | G24: =+'SMAC SCEIC 2Q 2026'!J73-G35 -> 247444.46 | H24: =+'SMAC SCEIC 2Q 2026'!K73-H35 -> 287014.8 | I24: =+'SMAC SCEIC 2Q 2026'!L73-I35 -> 255135.06 | J24: =SUM(F24:I24) -> 1050205.2
J25: =SUM(F25:I25) -> 0
B26: 4. | C26: Programa de Edificações ( Conservação, manutenção e segurança) | F26: =+'SMAC SCEIC 2Q 2026'!I89 -> 142510.64 | G26: =+'SMAC SCEIC 2Q 2026'!J89 -> 118844.41 | H26: =+'SMAC SCEIC 2Q 2026'!K89 -> 136130.84 | I26: =+'SMAC SCEIC 2Q 2026'!L89 -> 136823.49 | J26: =SUM(F26:I26) -> 534309.38
J27: =SUM(F27:I27) -> 0
B28: 5. | C28: Programa de Trabalho Área Fim | F28: =+SUM(F30:F34) -> 660027.98 | G28: =+SUM(G30:G34) -> 962196.09 | H28: =+SUM(H30:H34) -> 1239636.6 | I28: =+SUM(I30:I34) -> 978743.71 | J28: =+SUM(J30:J34) -> 3840604.4
C30: 5.1 | D30: Programa Biblioteca | F30: =+'SMAC SCEIC 2Q 2026'!I98 -> 6900.02 | G30: =+'SMAC SCEIC 2Q 2026'!J98 -> 21770 | H30: =+'SMAC SCEIC 2Q 2026'!K98 -> 22476.65 | I30: =+'SMAC SCEIC 2Q 2026'!L98 -> 10285.4 | J30: =SUM(F30:I30) -> 61432.07
C31: 5.2 | D31: Programa/Ação Artistíco Pedagógico | F31: =+'SMAC SCEIC 2Q 2026'!I108 -> 294760.8 | G31: =+'SMAC SCEIC 2Q 2026'!J108 -> 544316.82 | H31: =+'SMAC SCEIC 2Q 2026'!K108 -> 476413.31 | I31: =+'SMAC SCEIC 2Q 2026'!L108 -> 218250.39 | J31: =SUM(F31:I31) -> 1533741.3
C32: 5.3 | D32: Programa Fábrica Aberta ( Articulação e Difusão) | F32: =+'SMAC SCEIC 2Q 2026'!I103 -> 87366.17 | G32: =+'SMAC SCEIC 2Q 2026'!J103 -> 81677.36 | H32: =+'SMAC SCEIC 2Q 2026'!K103 -> 193684.02 | I32: =+'SMAC SCEIC 2Q 2026'!L103 -> 215183.01 | J32: =SUM(F32:I32) -> 577910.56
C33: 5.4 | D33: Programa Circulação - Novos Projetos | F33: =+'SMAC SCEIC 2Q 2026'!I117 -> 193676.26 | G33: =+'SMAC SCEIC 2Q 2026'!J117 -> 219956.26 | H33: =+'SMAC SCEIC 2Q 2026'!K117 -> 450426.28 | I33: =+'SMAC SCEIC 2Q 2026'!L117 -> 496436.28 | J33: =SUM(F33:I33) -> 1360495.1
C34: 5.5 | D34: Programa de Comunicação | F34: =+'SMAC SCEIC 2Q 2026'!I124 -> 77324.73 | G34: =+'SMAC SCEIC 2Q 2026'!J124 -> 94475.65 | H34: =+'SMAC SCEIC 2Q 2026'!K124 -> 96636.39 | I34: =+'SMAC SCEIC 2Q 2026'!L124 -> 38588.63 | J34: =SUM(F34:I34) -> 307025.4
B35: 6. | C35: Despesas Financeiras ( Despesas bancárias, impostos) | F35: =+'SMAC SCEIC 2Q 2026'!I85 -> 9603.23 | G35: =+'SMAC SCEIC 2Q 2026'!J85 -> 0 | H35: =+'SMAC SCEIC 2Q 2026'!K85 -> 61.34 | I35: =+'SMAC SCEIC 2Q 2026'!L85 -> 4354.98 | J35: =SUM(F35:I35) -> 14019.55
J36: =SUM(F36:I36) -> 0
B37: 7. | C37: Investimentos com Recursos Vinculados ao Contrato de Gestão. | F37: =+'SMAC SCEIC 2Q 2026'!I140 -> 0 | G37: =+'SMAC SCEIC 2Q 2026'!J140 -> 23951.96 | H37: =+'SMAC SCEIC 2Q 2026'!K140 -> 0 | I37: =+'SMAC SCEIC 2Q 2026'!L140 -> 0 | J37: =SUM(F37:I37) -> 23951.96
J38: =SUM(F38:I38) -> 0
B39: 8. | C39: Reversões/Transferências Vinculados ao(s) Contratos de Gestão. | F39: 0 | G39: 0 | H39: 0 | I39: 0 | J39: =SUM(F39:I39) -> 0
B41: C- | C41: TOTAL DEMONSTRATIVO RECEITAS - DESPESAS (A-B) | F41: =F7-F12 -> 737761.78 | G41: =G7-G12 -> 238826.95 | H41: =H7-H12 -> 736265.42 | I41: =I7-I12 -> 393798.58 | J41: =J7-J12 -> 2106652.7
B43: D- SALDO INICIO PERÍODO - RECURSOS CONTRATO DE GESTÃO | F43: =SUM(F44:F46) -> 4539922.7 | G43: =SUM(G44:G46) -> 5196311.1 | H43: =SUM(H44:H46) -> 5346622.2 | I43: =SUM(I44:I46) -> 6081476.3 | J43: =SUM(J44:J46) -> 4539922.7
C44: Saldo do Exercício - Contrato de Gestão Repasses | F44: =-'bal fábricas maio'!C174 -> 732609 | G44: =-'bal fábricas junho'!C174 -> 1388997.4 | H44: =-'bal fábricas julho'!C174 -> 1539308.6 | I44: =-'bal fábricas agosto'!C174 -> 2274162.6 | J44: =F44 -> 732609 | K44: Ocultar
C45: Saldo do Exercício - Contrato de Gestão Reservas | F45: =-'bal fábricas maio'!C175 -> 0 | G45: =-'bal fábricas junho'!C175 -> 0 | H45: =-'bal fábricas julho'!C175 -> 0 | I45: =-'bal fábricas agosto'!C175 -> 0 | J45: =F45 -> 0 | K45: Ocultar
C46: Saldo do Exercício - Contrato de Gestão Contingência | F46: =-'bal fábricas maio'!C176 -> 3807313.6 | G46: =-'bal fábricas junho'!C176 -> 3807313.6 | H46: =-'bal fábricas julho'!C176 -> 3807313.6 | I46: =-'bal fábricas agosto'!C176 -> 3807313.6 | J46: =F46 -> 3807313.6 | K46: Ocultar
...

Sheet SMAC SCEIC 2Q 2026
A1: Instituto Poiesis
A2: CG 03 / 2020
A3: Ano do Documento: 2026
A5: Prestação de Contas do Plano Orçamentário
B8: Repasses e Outros Recursos Vinculados ao Contrato de Gestão
A9: Nível | B9: Nome | C9: Orçamento Anual | D9: Janeiro | E9: Fevereiro | F9: Março | G9: Abril | H9: 1º Quadrimestre | I9: Maio | J9: Junho | K9: Julho | L9: Agosto | M9: 2º Quadrimestre | N9: 3º Quadrimestre | O9: Realizado Anual | P9: Realizado x Previsto | Q9: Observações
B10: subGrupo: Repasses e Outros Recursos Vinculados ao Contrato de Gestão
A11: 1 | B11: Recursos Líquidos para o Contrato de Gestão | C11: 79200000 | D11: 6600000 | E11: 6600000 | F11: 6600000 | G11: 6600000 | H11: 26400000 | I11: 6600000 | J11: 6600000 | K11: 6600000 | L11: 6600000 | M11: 26400000 | N11: 0 | O11: 52800000 | P11: 66,67% | Q11: -
A12: 1.1 | B12: Repasse Contrato de Gestão | C12: 80000000 | D12: 6666666.7 | E12: 6666666.7 | F12: 6666666.7 | G12: 6666666.7 | H12: 26666667 | I12: 6666666.7 | J12: 6666666.7 | K12: 6666666.7 | L12: 6666666.7 | M12: 26666667 | N12: 0 | O12: 53333333 | P12: 66,67% | Q12: -
A13: 1.2 | B13: Movimentação de Recursos Reservados | C13: -800000 | D13: -66666.67 | E13: -66666.67 | F13: -66666.67 | G13: -66666.67 | H13: -266666.68 | I13: -66666.67 | J13: -66666.67 | K13: -66666.67 | L13: -66666.67 | M13: -266666.68 | N13: 0 | O13: -533333.36 | P13: 66,67% | Q13: -
A14: 1.2.1 | B14: Constituição Recursos de Reserva | C14: 0 | D14: 0 | E14: 0 | F14: 0 | G14: 0 | H14: 0 | I14: 0 | J14: 0 | K14: 0 | L14: 0 | M14: 0 | N14: 0 | O14: 0 | P14: 0% | Q14: -
A15: 1.2.2 | B15: Reversão de Recursos de Reserva | C15: 0 | D15: 0 | E15: 0 | F15: 0 | G15: 0 | H15: 0 | I15: 0 | J15: 0 | K15: 0 | L15: 0 | M15: 0 | N15: 0 | O15: 0 | P15: 0% | Q15: -
A16: 1.2.3 | B16: Constituição Recursos de Contingência | C16: -800000 | D16: -66666.67 | E16: -66666.67 | F16: -66666.67 | G16: -66666.67 | H16: -266666.68 | I16: -66666.67 | J16: -66666.67 | K16: -66666.67 | L16: -66666.67 | M16: -266666.68 | N16: 0 | O16: -533333.36 | P16: 66,67% | Q16: -
A17: 1.2.4 | B17: Reversão de Recursos de Contingência | C17: 0 | D17: 0 | E17: 0 | F17: 0 | G17: 0 | H17: 0 | I17: 0 | J17: 0 | K17: 0 | L17: 0 | M17: 0 | N17: 0 | O17: 0 | P17: 0% | Q17: -
A18: 1.2.5 | B18: Constituição de outras reservas (especificar) | C18: 0 | D18: 0 | E18: 0 | F18: 0 | G18: 0 | H18: 0 | I18: 0 | J18: 0 | K18: 0 | L18: 0 | M18: 0 | N18: 0 | O18: 0 | P18: 0% | Q18: -
A19: 1.2.6 | B19: Reversão de outras reservas (especificar) | C19: 0 | D19: 0 | E19: 0 | F19: 0 | G19: 0 | H19: 0 | I19: 0 | J19: 0 | K19: 0 | L19: 0 | M19: 0 | N19: 0 | O19: 0 | P19: 0% | Q19: -
A20: 1.3 | B20: Outras Receitas | C20: 0 | D20: 0 | E20: 0 | F20: 0 | G20: 0 | H20: 0 | I20: 0 | J20: 0 | K20: 0 | L20: 0 | M20: 0 | N20: 0 | O20: 0 | P20: 0% | Q20: -
A21: 1.3.1 | B21: Saldo anterior para a utilização no exercício | C21: 0 | D21: 0 | E21: 0 | F21: 0 | G21: 0 | H21: 0 | I21: 0 | J21: 0 | K21: 0 | L21: 0 | M21: 0 | N21: 0 | O21: 0 | P21: 0% | Q21: -
A22: 2 | B22: Recursos de Investimento do Contrato de Gestão | C22: 0 | D22: 0 | E22: 0 | F22: 0 | G22: 0 | H22: 0 | I22: 0 | J22: 0 | K22: 0 | L22: 0 | M22: 0 | N22: 0 | O22: 0 | P22: 0% | Q22: -
... A32: 3.2 | B32: Recursos de Captação voltados a Investimentos | C32: 0 | D32: 0 | E32: 0 | F32: 0 | G32: 0 | H32: 0 | I32: 0 | J32: 0 | K32: 0 | L32: 0 | M32: 0 | N32: 0 | O32: 0 | P32: 0% | Q32: -
B34: Receitas Apropriadas Vinculadas ao Contrato de Gestão
A35: Nível | B35: Nome | C35: Orçamento Anual | D35: Janeiro | E35: Fevereiro | F35: Março | G35: Abril | H35: 1º Quadrimestre | I35: Maio | J35: Junho | K35: Julho | L35: Agosto | M35: 2º Quadrimestre | N35: 3º Quadrimestre | O35: Realizado Anual | P35: Realizado x Previsto | Q35: Observações
B36: subGrupo: Receitas Apropriadas Vinculadas ao Contrato de Gestão
A37: 4 | B37: Total de Receitas Vinculadas ao Plano de Trabalho | C37: 82448125 | D37: 5999500.1 | E37: 6831539.6 | F37: 6659147.6 | G37: 6593813.2 | H37: 26084000 | I37: 6607658.9 | J37: 6501485.7 | K37: 6058988 | L37: 7162113.1 | M37: 26330246 | N37: 0 | O37: 52414246 | P37: 63,57% | Q37: -
A38: 4.1 | B38: Receita de Repasse Apropriada | C38: 79200000 | D38: 5914077.7 | E38: 6755090.4 | F38: 6555246.5 | G38: 6495806.3 | H38: 25720221 | I38: 6503548.1 | J38: 6378113.6 | K38: 5930401.2 | L38: 6886579.3 | M38: 25698642 | N38: 0 | O38: 51418863 | P38: 64,92% | Q38: -
A39: 4.2 | B39: Receita de Captação Apropriada | C39: 2413125 | D39: 0 | E39: 0 | F39: 0 | G39: 0 | H39: 0 | I39: 0 | J39: 0 | K39: 0 | L39: 150601.89 | M39: 150601.89 | N39: 0 | O39: 150601.89 | P39: 6,24% | Q39: -
A40: 4.2.1 | B40: Captação de Recursos Operacionais (bilheteria, cessão onerosa de espaço, loja, café, doações, estacionamento, etc) | C40: 100000 | D40: 0 | E40: 0 | F40: 0 | G40: 0 | H40: 0 | I40: 0 | J40: 0 | K40: 0 | L40: 0 | M40: 0 | N40: 0 | O40: 0 | P40: 0% | Q40: -
A41: 4.2.2 | B41: Captação de Recursos Incentivados | C41: 313125 | D41: 0 | E41: 0 | F41: 0 | G41: 0 | H41: 0 | I41: 0 | J41: 0 | K41: 0 | L41: 0 | M41: 0 | N41: 0 | O41: 0 | P41: 0% | Q41: -
A42: 4.2.3 | B42: Trabalho Voluntário | C42: 0 | D42: 0 | E42: 0 | F42: 0 | G42: 0 | H42: 0 | I42: 0 | J42: 0 | K42: 0 | L42: 0 | M42: 0 | N42: 0 | O42: 0 | P42: 0% | Q42: -
A43: 4.2.4 | B43: Parcerias | C43: 2000000 | D43: 0 | E43: 0 | F43: 0 | G43: 0 | H43: 0 | I43: 0 | J43: 0 | K43: 0 | L43: 150601.89 | M43: 150601.89 | N43: 0 | O43: 150601.89 | P43: 7,53% | Q43: -
A44: 4.3 | B44: Total das Receitas Financeiras | C44: 835000 | D44: 85422.39 | E44: 76449.21 | F44: 103901.08 | G44: 98006.9 | H44: 363779.58 | I44: 104110.77 | J44: 123372.08 | K44: 128586.77 | L44: 124931.88 | M44: 481001.5 | N44: 0 | O44: 844781.08 | P44: 101,17% | Q44: -
A45: 5 | B45: Total de Receitas para realização de metas condicionadas | C45: 0 | D45: 0 | E45: 0 | F45: 0 | G45: 0 | H45: 0 | I45: 0 | J45: 0 | K45: 0 | L45: 0 | M45: 0 | N45: 0 | O45: 0 | P45: 0% | Q45: -
A46: 5.1 | B46: Receitas para realização de metas condicionadas | C46: 0 | D46: 0 | E46: 0 | F46: 0 | G46: 0 | H46: 0 | I46: 0 | J46: 0 | K46: 0 | L46: 0 | M46: 0 | N46: 0 | O46: 0 | P46: 0% | Q46: -
B48: subGrupo: Despesas do Contrato De Gestão
A49: 6 | B49: Total de Despesas | C49: 82448125 | D49: 5999500.1 | E49: 6831539.6 | F49: 6659147.6 | G49: 6593813.2 | H49: 26084000 | I49: 6639316.4 | J49: 7127497.6 | K49: 6653223.4 | L49: 7157613.1 | M49: 27577651 | N49: 0 | O49: 53661651 | P49: 65,09% | Q49: -
A50: 6.1 | B50: Subtotal Despesas | C50: 82448125 | D50: 5374640.4 | E50: 6206679.9 | F50: 6040536.5 | G50: 5981388.2 | H50: 23603245 | I50: 6033015.7 | J50: 6527259.8 | K50: 6058988 | L50: 6464122.2 | M50: 25083386 | N50: 0 | O50: 48686631 | P50: 59,05% | Q50: -
A51: 6.1.1 | B51: Recursos Humanos - Salários, encargos e benefícios | C51: 53217027 | D51: 3965121.9 | E51: 4610474.7 | F51: 4365879.8 | G51: 4090725.3 | H51: 17032202 | I51: 4257377.2 | J51: 4517444.1 | K51: 3786140.2 | L51: 4305150.6 | M51: 16866112 | N51: 0 | O51: 33898314 | P51: 63,7% | Q51: -
A52: 6.1.1.1 | B52: Diretoria | C52: 1099838 | D52: 82645.8 | E52: 82645.8 | F52: 81299.4 | G52: 81299.4 | H52: 327890.4 | I52: 81299.4 | J52: 88768.5 | K52: 80988.67 | L52: 136272.02 | M52: =SUM(I52:L52) -> 387328.59 | N52: 0 | O52: 715218.99 | P52: 65,03% | Q52: -
A53: 6.1.1.1.1 | B53: Área Meio | C53: 1099838 | D53: 82645.8 | E53: 82645.8 | F53: 81299.4 | G53: 81299.4 | H53: 327890.4 | I53: 81299.4 | J53: 88768.5 | K53: 80988.67 | L53: 136272.02 | M53: 387328.59 | N53: 0 | O53: 715218.99 | P53: 65,03% | Q53: -
A54: 6.1.1.1.2 | B54: Área Fim | C54: 0 | D54: 0 | E54: 0 | F54: 0 | G54: 0 | H54: 0 | I54: 0 | J54: 0 | K54: 0 | L54: 0 | M54: 0 | N54: 0 | O54: 0 | P54: 0% | Q54: -
...

Sheet bal fábricas maio
A1: INSTITUTO - POIESIS
A2: CNPJ : 00.894.851/0001-25
A3: Balancete de Verificação de 01/01/2026 a 30/04/2026
A4: Objeto Contratual: FÁBRICAS DE CULTURA SETOR B
A6: Conta | B6: Descrição | C6: Saldo anterior | D6: Débito | E6: Crédito | F6: Saldo
A7: 1 | B7: ATIVO | C7: 23084266 | D7: 53617617 | E7: 53380763 | F7: 23321120 | H7: =C7-F7 -> -236854.37 | I7: =+H7-H8-H65+6108.95 -> 569387.13
A8: 1.1 | B8: ATIVO CIRCULANTE | C8: 11100017 | D8: 53617617 | E8: 52755783 | F8: 11961851 | H8: =C8-F8 -> -861833.93
A9: 1.1.01 | B9: CAIXA E EQUIVALENTE DE CAIXA | C9: 9730940.6 | D9: 53340465 | E9: 52568907 | F9: 10502499
A10: 1.1.01.01 | B10: CAIXA | C10: 36099.93 | D10: 0 | E10: 0 | F10: 36099.93 | H10: -6108.95
A11: 1.1.01.01.001 | B11: FUNDO FIXO - CASA DAS ROSAS | C11: 0 | D11: 0 | E11: 0 | F11: 0
A12: 1.1.01.01.002 | B12: FUNDO FIXO - CASA GUILHERME DE ALMEIDA | C12: 0 | D12: 0 | E12: 0 | F12: 0
A13: 1.1.01.01.003 | B13: FUNDO FIXO - CASA MÁRIO DE ANDRADE | C13: 0 | D13: 0 | E13: 0 | F13: 0
A14: 1.1.01.01.004 | B14: FUNDO FIXO - FC JARDIM SÃO LUIZ | C14: 3000 | D14: 0 | E14: 0 | F14: 3000
A15: 1.1.01.01.005 | B15: FUNDO FIXO - FC VL NOVA CACHOEIRINHA | C15: 5999.99 | D15: 0 | E15: 0 | F15: 5999.99
A16: 1.1.01.01.007 | B16: FUNDO FIXO - FC JARDIM CAPÃO REDONDO | C16: 3676.9 | D16: 0 | E16: 0 | F16: 3676.9
A17: 1.1.01.01.008 | B17: FUNDO FIXO - FC BRASILÂNDIA | C17: 3000 | D17: 0 | E17: 0 | F17: 3000
A18: 1.1.01.01.009 | B18: FUNDO FIXO - FC JAÇANÃ | C18: 3000 | D18: 0 | E18: 0 | F18: 3000
A19: 1.1.01.01.010 | B19: FUNDO FIXO - FC - DIADEMA | C19: 3000 | D19: 0 | E19: 0 | F19: 3000
A20: 1.1.01.01.011 | B20: FUNDO FIXO - FC - IGUAPE | C20: 4138.8 | D20: 0 | E20: 0 | F20: 4138.8
A21: 1.1.01.01.012 | B21: FUNDO FIXO - FC - OSASCO | C21: 3000 | D21: 0 | E21: 0 | F21: 3000
A22: 1.1.01.01.014 | B22: FUNDO FIXO - FC NUCLEO TAIPAS | C22: 3000 | D22: 0 | E22: 0 | F22: 3000
... A25: 1.1.01.02 | B25: BANCOS CONTA MOVIMENTO | C25: 0 | D25: 30536119 | E25: 30536119 | F25: 0
A26: 1.1.01.02.002 | B26: BANCO DO BRASIL 60010-5 - R. DE REPASSE | C26: 0 | D26: 30269080 | E26: 30269080 | F26: 0 | L26: 19467876
A27: 1.1.01.02.004 | B27: BANCO DO BRASIL 60030-X - R. DE CONTING. | C27: 0 | D27: 267039.08 | E27: 267039.08 | F27: 0 | L27: -518333.97
A28: 1.1.01.02.006 | B28: BANCO DO BRASIL-11540-1 - R. DE REPASSE | C28: 0 | D28: 0 | E28: 0 | F28: 0
A29: 1.1.01.02.008 | B29: BANCO DO BRASIL-11542-8 - R. DE CONTING. | C29: 0 | D29: 0 | E29: 0 | F29: 0
A30: 1.1.01.02.009 | B30: BANCO DO BRASIL-11544-4 - R. DE CAPTAÇÃO | C30: 0 | D30: 0 | E30: 0 | F30: 0
A31: 1.1.01.02.013 | B31: BANCO DO BRASIL-13279-9 - PROJETO FLUXO SP | C31: 0 | D31: 0 | E31: 0 | F31: 0
A32: 1.1.01.02.014 | B32: BANCO DO BRASIL-13280-2 - PROJETO FLUXO SP | C32: 0 | D32: 0 | E32: 0 | F32: 0
A33: 1.1.01.03 | B33: APLICAÇÕES FINANCEIRAS | C33: 9694840.7 | D33: 22804346 | E33: 22032788 | F33: 10466399 | L33: 231751.27
A34: 1.1.01.03.001 | B34: BANCO DO BRASIL - 106615-3 - POIESIS | C34: 0 | D34: 0 | E34: 0 | F34: 0
A35: 1.1.01.03.002 | B35: BANCO DO BRASIL 60010-5 - APLIC - R. DE REPASSE | C35: 4741024 | D35: 22318352 | E35: 21663941 | F35: 5395435.3 | H35: 5395435.3 | I35: 0 | L35: -17138601
A36: 1.1.01.03.004 | B36: BANCO DO BRASIL 60030-X - R. DE CONTING. | C36: 4953816.8 | D36: 485994.43 | E36: 368847.72 | F36: 5070963.5 | H36: 5070963.5 | I36: 0 | L36: -368754.62
A37: 1.1.01.03.006 | B37: BANCO DO BRASIL-11540-1 - R. DE REPASSE | C37: 0 | D37: 0 | E37: 0 | F37: 0
A38: 1.1.01.03.007 | B38: BANCO DO BRASIL-11541-X - R. DE RESERVA | C38: 0 | D38: 0 | E38: 0 | F38: 0
A39: 1.1.01.03.008 | B39: BANCO DO BRASIL-11542-8 - R. DE CONTING. | C39: 0 | D39: 0 | E39: 0 | F39: 0
A40: 1.1.01.03.009 | B40: BANCO DO BRASIL-11544-4 - R. DE CAPTAÇÃO | C40: 0 | D40: 0 | E40: 0 | F40: 0
A41: 1.1.02 | B41: REALIZAVEIS A CURTO PRAZO | C41: 1369076 | D41: 277152.35 | E41: 186876.46 | F41: 1459351.9
A42: 1.1.02.01 | B42: CONTAS A RECEBER | C42: 0 | D42: 0 | E42: 0 | F42: 0
A43: 1.1.02.01.001 | B43: CONTAS A RECEBER | C43: 0 | D43: 0 | E43: 0 | F43: 0
...

Sheet bal fábricas junho
A1: INSTITUTO - POIESIS
A2: CNPJ : 00.894.851/0001-25
A3: Balancete de Verificação de 01/01/2026 a 30/04/2026
A4: Objeto Contratual: FÁBRICAS DE CULTURA SETOR B
A6: Conta | B6: Descrição | C6: Saldo anterior | D6: Débito | E6: Crédito | F6: Saldo
A7: 1 | B7: ATIVO | C7: 23150343 | D7: 56134810 | E7: 55499016 | F7: 23786137 | H7: =C7-F7 -> -635794.4 | I7: =+H7-H8-H65 -> 624979.56
A8: 1.1 | B8: ATIVO CIRCULANTE | C8: 11791073 | D8: 56110858 | E8: 54850085 | F8: 13051847 | H8: =C8-F8 -> -1260774
A9: 1.1.01 | B9: CAIXA E EQUIVALENTE DE CAIXA | C9: 10331721 | D9: 55162131 | E9: 54696993 | F9: 10796859
A10: 1.1.01.01 | B10: CAIXA | C10: 36099.93 | D10: 0 | E10: 0 | F10: 36099.93
A11: 1.1.01.01.001 | B11: FUNDO FIXO - CASA DAS ROSAS | C11: 0 | D11: 0 | E11: 0 | F11: 0
A12: 1.1.01.01.002 | B12: FUNDO FIXO - CASA GUILHERME DE ALMEIDA | C12: 0 | D12: 0 | E12: 0 | F12: 0
A13: 1.1.01.01.003 | B13: FUNDO FIXO - CASA MÁRIO DE ANDRADE | C13: 0 | D13: 0 | E13: 0 | F13: 0
A14: 1.1.01.01.004 | B14: FUNDO FIXO - FC JARDIM SÃO LUIZ | C14: 3000 | D14: 0 | E14: 0 | F14: 3000
A15: 1.1.01.01.005 | B15: FUNDO FIXO - FC VL NOVA CACHOEIRINHA | C15: 5999.99 | D15: 0 | E15: 0 | F15: 5999.99
A16: 1.1.01.01.007 | B16: FUNDO FIXO - FC JARDIM CAPÃO REDONDO | C16: 3676.9 | D16: 0 | E16: 0 | F16: 3676.9
A17: 1.1.01.01.008 | B17: FUNDO FIXO - FC BRASILÂNDIA | C17: 3000 | D17: 0 | E17: 0 | F17: 3000
A18: 1.1.01.01.009 | B18: FUNDO FIXO - FC JAÇANÃ | C18: 3000 | D18: 0 | E18: 0 | F18: 3000
A19: 1.1.01.01.010 | B19: FUNDO FIXO - FC - DIADEMA | C19: 3000 | D19: 0 | E19: 0 | F19: 3000
A20: 1.1.01.01.011 | B20: FUNDO FIXO - FC - IGUAPE | C20: 4138.8 | D20: 0 | E20: 0 | F20: 4138.8
... A25: 1.1.01.02 | B25: BANCOS CONTA MOVIMENTO | C25: 0 | D25: 32357785 | E25: 32357785 | F25: 0
A26: 1.1.01.02.002 | B26: BANCO DO BRASIL 60010-5 - R. DE REPASSE | C26: 0 | D26: 32090746 | E26: 32090746 | F26: 0 | L26: 6135446.7
A27: 1.1.01.02.004 | B27: BANCO DO BRASIL 60030-X - R. DE CONTING. | C27: 0 | D27: 267039.08 | E27: 267039.08 | F27: 0 | L27: -518333.97
A28: 1.1.01.02.006 | B28: BANCO DO BRASIL-11540-1 - R. DE REPASSE | C28: 0 | D28: 0 | E28: 0 | F28: 0
A29: 1.1.01.02.008 | B29: BANCO DO BRASIL-11542-8 - R. DE CONTING. | C29: 0 | D29: 0 | E29: 0 | F29: 0
A30: 1.1.01.02.009 | B30: BANCO DO BRASIL-11544-4 - R. DE CAPTAÇÃO | C30: 0 | D30: 0 | E30: 0 | F30: 0
A31: 1.1.01.02.013 | B31: BANCO DO BRASIL-13279-9 - PROJETO FLUXO SP | C31: 0 | D31: 0 | E31: 0 | F31: 0
A32: 1.1.01.02.014 | B32: BANCO DO BRASIL-13280-2 - PROJETO FLUXO SP | C32: 0 | D32: 0 | E32: 0 | F32: 0
A33: 1.1.01.03 | B33: APLICAÇÕES FINANCEIRAS | C33: 10295621 | D33: 22804346 | E33: 22339209 | F33: 10760759 | L33: 231751.27
A34: 1.1.01.03.001 | B34: BANCO DO BRASIL - 106615-3 - POIESIS | C34: 0 | D34: 0 | E34: 0 | F34: 0
A35: 1.1.01.03.002 | B35: BANCO DO BRASIL 60010-5 - APLIC - R. DE REPASSE | C35: 5341897.7 | D35: 22318352 | E35: 22024398 | F35: 5635851.6 | H35: 5635851.6 | I35: 0 | L35: 15543905
A36: 1.1.01.03.004 | B36: BANCO DO BRASIL 60030-X - R. DE CONTING. | C36: 4953723.7 | D36: 485994.43 | E36: 314810.69 | F36: 5124907.4 | H36: 5124907.4 | I36: 0 | L36: 314717.59
A37: 1.1.01.03.006 | B37: BANCO DO BRASIL-11540-1 - R. DE REPASSE | C37: 0 | D37: 0 | E37: 0 | F37: 0
A38: 1.1.01.03.007 | B38: BANCO DO BRASIL-11541-X - R. DE RESERVA | C38: 0 | D38: 0 | E38: 0 | F38: 0
A39: 1.1.01.03.008 | B39: BANCO DO BRASIL-11542-8 - R. DE CONTING. | C39: 0 | D39: 0 | E39: 0 | F39: 0
A40: 1.1.01.03.009 | B40: BANCO DO BRASIL-11544-4 - R. DE CAPTAÇÃO | C40: 0 | D40: 0 | E40: 0 | F40: 0
A41: 1.1.02 | B41: REALIZAVEIS A CURTO PRAZO | C41: 1459351.9 | D41: 948727.46 | E41: 153091.18 | F41: 2254988.1
A42: 1.1.02.01 | B42: CONTAS A RECEBER | C42: 0 | D42: 2656.98 | E42: 0 | F42: 2656.98
A43: 1.1.02.01.001 | B43: CONTAS A RECEBER | C43: 0 | D43: 0 | E43: 0 | F43: 0
A44: 1.1.02.01.002 | B44: ALUGUEIS A RECEBER | C44: 0 | D44: 0 | E44: 0 | F44: 0
A45: 1.1.02.01.010 | B45: VALORES A IDENTIFICAR | C45: 0 | D45: 2656.98 | E45: 0 | F45: 2656.98
...

Sheet bal fábricas julho
A1: INSTITUTO - POIESIS
A2: CNPJ : 00.894.851/0001-25
A3: Balancete de Verificação de 01/01/2026 a 30/04/2026
A4: Objeto Contratual: FÁBRICAS DE CULTURA SETOR B
A6: Conta | B6: Descrição | C6: Saldo anterior | D6: Débito | E6: Crédito | F6: Saldo
A7: 1 | B7: ATIVO | C7: 23499637 | D7: 55045512 | E7: 55042972 | F7: 23502176 | H7: =C7-F7 -> -2539.48 | I7: =+H7-H8-H65+6108.95 -> 618199.94
A8: 1.1 | B8: ATIVO CIRCULANTE | C8: 12765347 | D8: 55045512 | E8: 54430881 | F8: 13379977 | H8: =C8-F8 -> -614630.47
A9: 1.1.01 | B9: CAIXA E EQUIVALENTE DE CAIXA | C9: 10796859 | D9: 54154841 | E9: 53691870 | F9: 10973329
A10: 1.1.01.01 | B10: CAIXA | C10: 36099.93 | D10: 0 | E10: 0 | F10: 36099.93
A11: 1.1.01.01.001 | B11: FUNDO FIXO - CASA DAS ROSAS | C11: 0 | D11: 0 | E11: 0 | F11: 0
A12: 1.1.01.01.002 | B12: FUNDO FIXO - CASA GUILHERME DE ALMEIDA | C12: 0 | D12: 0 | E12: 0 | F12: 0
A13: 1.1.01.01.003 | B13: FUNDO FIXO - CASA MÁRIO DE ANDRADE | C13: 0 | D13: 0 | E13: 0 | F13: 0
A14: 1.1.01.01.004 | B14: FUNDO FIXO - FC JARDIM SÃO LUIZ | C14: 3000 | D14: 0 | E14: 0 | F14: 3000
A15: 1.1.01.01.005 | B15: FUNDO FIXO - FC VL NOVA CACHOEIRINHA | C15: 5999.99 | D15: 0 | E15: 0 | F15: 5999.99
A16: 1.1.01.01.007 | B16: FUNDO FIXO - FC JARDIM CAPÃO REDONDO | C16: 3676.9 | D16: 0 | E16: 0 | F16: 3676.9
A17: 1.1.01.01.008 | B17: FUNDO FIXO - FC BRASILÂNDIA | C17: 3000 | D17: 0 | E17: 0 | F17: 3000
A18: 1.1.01.01.009 | B18: FUNDO FIXO - FC JAÇANÃ | C18: 3000 | D18: 0 | E18: 0 | F18: 3000
A19: 1.1.01.01.010 | B19: FUNDO FIXO - FC - DIADEMA | C19: 3000 | D19: 0 | E19: 0 | F19: 3000
A20: 1.1.01.01.011 | B20: FUNDO FIXO - FC - IGUAPE | C20: 4138.8 | D20: 0 | E20: 0 | F20: 4138.8
... A25: 1.1.01.02 | B25: BANCOS CONTA MOVIMENTO | C25: 0 | D25: 31350495 | E25: 31350495 | F25: 0
A26: 1.1.01.02.002 | B26: BANCO DO BRASIL 60010-5 - R. DE REPASSE | C26: 0 | D26: 31083456 | E26: 31083456 | F26: 0 | L26: 19090217
A27: 1.1.01.02.004 | B27: BANCO DO BRASIL 60030-X - R. DE CONTING. | C27: 0 | D27: 267039.08 | E27: 267039.08 | F27: 0 | L27: -518333.97
A28: 1.1.01.02.006 | B28: BANCO DO BRASIL-11540-1 - R. DE REPASSE | C28: 0 | D28: 0 | E28: 0 | F28: 0
A29: 1.1.01.02.008 | B29: BANCO DO BRASIL-11542-8 - R. DE CONTING. | C29: 0 | D29: 0 | E29: 0 | F29: 0
A30: 1.1.01.02.009 | B30: BANCO DO BRASIL-11544-4 - R. DE CAPTAÇÃO | C30: 0 | D30: 0 | E30: 0 | F30: 0
A31: 1.1.01.02.013 | B31: BANCO DO BRASIL-13279-9 - PROJETO FLUXO SP | C31: 0 | D31: 0 | E31: 0 | F31: 0
A32: 1.1.01.02.014 | B32: BANCO DO BRASIL-13280-2 - PROJETO FLUXO SP | C32: 0 | D32: 0 | E32: 0 | F32: 0
A33: 1.1.01.03 | B33: APLICAÇÕES FINANCEIRAS | C33: 10760759 | D33: 22804346 | E33: 22341376 | F33: 10937229 | L33: 231751.27
A34: 1.1.01.03.001 | B34: BANCO DO BRASIL - 106615-3 - POIESIS | C34: 0 | D34: 0 | E34: 0 | F34: 0
A35: 1.1.01.03.002 | B35: BANCO DO BRASIL 60010-5 - APLIC - R. DE REPASSE | C35: 5635851.6 | D35: 22318352 | E35: 22219195 | F35: 5619784.7 | H35: 5619784.7 | I35: 0 | L35: -16749062
A36: 1.1.01.03.004 | B36: BANCO DO BRASIL 60030-X - R. DE CONTING. | C36: 5124907.4 | D36: 485994.43 | E36: 122180.52 | F36: 5317444.5 | H36: 5317444.5 | I36: 0 | L36: -122087.42
A37: 1.1.01.03.006 | B37: BANCO DO BRASIL-11540-1 - R. DE REPASSE | C37: 0 | D37: 0 | E37: 0 | F37: 0
A38: 1.1.01.03.007 | B38: BANCO DO BRASIL-11541-X - R. DE RESERVA | C38: 0 | D38: 0 | E38: 0 | F38: 0
A39: 1.1.01.03.008 | B39: BANCO DO BRASIL-11542-8 - R. DE CONTING. | C39: 0 | D39: 0 | E39: 0 | F39: 0
A40: 1.1.01.03.009 | B40: BANCO DO BRASIL-11544-4 - R. DE CAPTAÇÃO | C40: 0 | D40: 0 | E40: 0 | F40: 0
A41: 1.1.02 | B41: REALIZAVEIS A CURTO PRAZO | C41: 2254988.1 | D41: 890670.4 | E41: 739010.6 | F41: 2406647.9
A42: 1.1.02.01 | B42: CONTAS A RECEBER | C42: 2656.98 | D42: 0 | E42: 0 | F42: 2656.98
A43: 1.1.02.01.001 | B43: CONTAS A RECEBER | C43: 0 | D43: 0 | E43: 0 | F43: 0
A44: 1.1.02.01.002 | B44: ALUGUEIS A RECEBER | C44: 0 | D44: 0 | E44: 0 | F44: 0
A45: 1.1.02.01.010 | B45: VALORES A IDENTIFICAR | C45: 2656.98 | D45: 0 | E45: 0 | F45: 2656.98
...

Sheet bal fábricas agosto
A1: INSTITUTO - POIESIS
A2: CNPJ : 00.894.851/0001-25
A3: Balancete de Verificação de 01/01/2026 a 30/04/2026
A4: Objeto Contratual: FÁBRICAS DE CULTURA SETOR B
A6: Conta | B6: Descrição | C6: Saldo anterior | D6: Débito | E6: Crédito | F6: Saldo
A7: 1 | B7: ATIVO | C7: 22953756 | D7: 53632207 | E7: 53400408 | F7: 23877288 | H7: =C7-F7 -> -923532.56 | I7: =+H7-H8-H65+6108.95 -> 618196.61
A8: 1.1 | B8: ATIVO CIRCULANTE | C8: 12831556 | D8: 53632207 | E8: 52788321 | F8: 14367177 | H8: =C8-F8 -> -1535620.2
A9: 1.1.01 | B9: CAIXA E EQUIVALENTE DE CAIXA | C9: 10424908 | D9: 53068594 | E9: 52520174 | F9: 11665063
A10: 1.1.01.01 | B10: CAIXA | C10: 36099.93 | D10: 0 | E10: 0 | F10: 36099.93
A11: 1.1.01.01.001 | B11: FUNDO FIXO - CASA DAS ROSAS | C11: 0 | D11: 0 | E11: 0 | F11: 0
A12: 1.1.01.01.002 | B12: FUNDO FIXO - CASA GUILHERME DE ALMEIDA | C12: 0 | D12: 0 | E12: 0 | F12: 0
A13: 1.1.01.01.003 | B13: FUNDO FIXO - CASA MÁRIO DE ANDRADE | C13: 0 | D13: 0 | E13: 0 | F13: 0
A14: 1.1.01.01.004 | B14: FUNDO FIXO - FC JARDIM SÃO LUIZ | C14: 3000 | D14: 0 | E14: 0 | F14: 3000
A15: 1.1.01.01.005 | B15: FUNDO FIXO - FC VL NOVA CACHOEIRINHA | C15: 5999.99 | D15: 0 | E15: 0 | F15: 5999.99
A16: 1.1.01.01.007 | B16: FUNDO FIXO - FC JARDIM CAPÃO REDONDO | C16: 3676.9 | D16: 0 | E16: 0 | F16: 3676.9
A17: 1.1.01.01.008 | B17: FUNDO FIXO - FC BRASILÂNDIA | C17: 3000 | D17: 0 | E17: 0 | F17: 3000
A18: 1.1.01.01.009 | B18: FUNDO FIXO - FC JAÇANÃ | C18: 3000 | D18: 0 | E18: 0 | F18: 3000
A19: 1.1.01.01.010 | B19: FUNDO FIXO - FC - DIADEMA | C19: 3000 | D19: 0 | E19: 0 | F19: 3000
A20: 1.1.01.01.011 | B20: FUNDO FIXO - FC - IGUAPE | C20: 4138.8 | D20: 0 | E20: 0 | F20: 4138.8
... A25: 1.1.01.02 | B25: BANCOS CONTA MOVIMENTO | C25: 0 | D25: 30264248 | E25: 30264248 | F25: 0
A26: 1.1.01.02.002 | B26: BANCO DO BRASIL 60010-5 - R. DE REPASSE | C26: 0 | D26: 29997209 | E26: 29997209 | F26: 0 | L26: 19176130
A27: 1.1.01.02.004 | B27: BANCO DO BRASIL 60030-X - R. DE CONTING. | C27: 0 | D27: 267039.08 | E27: 267039.08 | F27: 0 | L27: -518333.97
A28: 1.1.01.02.006 | B28: BANCO DO BRASIL-11540-1 - R. DE REPASSE | C28: 0 | D28: 0 | E28: 0 | F28: 0
A29: 1.1.01.02.008 | B29: BANCO DO BRASIL-11542-8 - R. DE CONTING. | C29: 0 | D29: 0 | E29: 0 | F29: 0
A30: 1.1.01.02.009 | B30: BANCO DO BRASIL-11544-4 - R. DE CAPTAÇÃO | C30: 0 | D30: 0 | E30: 0 | F30: 0
A31: 1.1.01.02.013 | B31: BANCO DO BRASIL-13279-9 - PROJETO FLUXO SP | C31: 0 | D31: 0 | E31: 0 | F31: 0
A32: 1.1.01.02.014 | B32: BANCO DO BRASIL-13280-2 - PROJETO FLUXO SP | C32: 0 | D32: 0 | E32: 0 | F32: 0
A33: 1.1.01.03 | B33: APLICAÇÕES FINANCEIRAS | C33: 10388809 | D33: 22804346 | E33: 22255926 | F33: 11628963 | L33: 231751.27
A34: 1.1.01.03.001 | B34: BANCO DO BRASIL - 106615-3 - POIESIS | C34: 0 | D34: 0 | E34: 0 | F34: 0
A35: 1.1.01.03.002 | B35: BANCO DO BRASIL 60010-5 - APLIC - R. DE REPASSE | C35: 5435271.1 | D35: 22318352 | E35: 22133838 | F35: 6189524 | H35: 5619784.7 | I35: 0 | L35: -17739952
A36: 1.1.01.03.004 | B36: BANCO DO BRASIL 60030-X - R. DE CONTING. | C36: 4953537.5 | D36: 485994.43 | E36: 122087.42 | F36: 5439438.8 | H36: 5317444.5 | I36: 0 | L36: -121994.32
A37: 1.1.01.03.006 | B37: BANCO DO BRASIL-11540-1 - R. DE REPASSE | C37: 0 | D37: 0 | E37: 0 | F37: 0
A38: 1.1.01.03.007 | B38: BANCO DO BRASIL-11541-X - R. DE RESERVA | C38: 0 | D38: 0 | E38: 0 | F38: 0
A39: 1.1.01.03.008 | B39: BANCO DO BRASIL-11542-8 - R. DE CONTING. | C39: 0 | D39: 0 | E39: 0 | F39: 0
A40: 1.1.01.03.009 | B40: BANCO DO BRASIL-11544-4 - R. DE CAPTAÇÃO | C40: 0 | D40: 0 | E40: 0 | F40: 0
A41: 1.1.02 | B41: REALIZAVEIS A CURTO PRAZO | C41: 2406647.9 | D41: 563612.93 | E41: 268147.01 | F41: 2702113.9
A42: 1.1.02.01 | B42: CONTAS A RECEBER | C42: 2656.98 | D42: 0 | E42: 0 | F42: 2656.98
A43: 1.1.02.01.001 | B43: CONTAS A RECEBER | C43: 0 | D43: 0 | E43: 0 | F43: 0
A44: 1.1.02.01.002 | B44: ALUGUEIS A RECEBER | C44: 0 | D44: 0 | E44: 0 | F44: 0
A45: 1.1.02.01.010 | B45: VALORES A IDENTIFICAR | C45: 2656.98 | D45: 0 | E45: 0 | F45: 2656.98
...
